BEGIN:VCALENDAR
VERSION:2.0
PRODID:-//Tukios.com/
BEGIN:VEVENT
UID:824d25bc-22f3-4b36-9712-e9a235a56dde@www.parkerkohlfuneralhome.com
DTSTAMP:20260421T090455Z
DTSTART:20260312T210000Z
DTEND:20260312T220000Z
SUMMARY:Memorial Service
DESCRIPTION:
URL:https://www.parkerkohlfuneralhome.com/obituaries/charles-charlie-wolfe
LOCATION:Parker Kohl Funeral Home 1725 Lyndale Ave N  Faribault MN 55021
GEO:44.3098862;-93.2900394
END:VEVENT
END:VCALENDAR