BEGIN:VCALENDAR
VERSION:2.0
PRODID:-//Tukios.com/
BEGIN:VEVENT
UID:50658d87-e167-448a-8457-fe3ac38c2828@www.parkerkohlfuneralhome.com
DTSTAMP:20260423T082927Z
DTSTART:20260312T200000Z
DTEND:20260312T210000Z
SUMMARY:Visitation
DESCRIPTION:
URL:https://www.parkerkohlfuneralhome.com/obituaries/charles-charlie-wolfe
LOCATION:Parker Kohl Funeral Home 1725 Lyndale Ave N  Faribault MN 55021
GEO:44.3098862;-93.2900394
END:VEVENT
END:VCALENDAR